BEGIN:VCALENDAR
VERSION:2.0
PRODID:-//Sur le Chemin - ECPv6.15.20//NONSGML v1.0//EN
CALSCALE:GREGORIAN
METHOD:PUBLISH
X-ORIGINAL-URL:https://www.surlechemin.be
X-WR-CALDESC:Évènements pour Sur le Chemin
REFRESH-INTERVAL;VALUE=DURATION:PT1H
X-Robots-Tag:noindex
X-PUBLISHED-TTL:PT1H
BEGIN:VTIMEZONE
TZID:Europe/Brussels
BEGIN:DAYLIGHT
TZOFFSETFROM:+0100
TZOFFSETTO:+0200
TZNAME:CEST
DTSTART:20240331T010000
END:DAYLIGHT
BEGIN:STANDARD
TZOFFSETFROM:+0200
TZOFFSETTO:+0100
TZNAME:CET
DTSTART:20241027T010000
END:STANDARD
BEGIN:DAYLIGHT
TZOFFSETFROM:+0100
TZOFFSETTO:+0200
TZNAME:CEST
DTSTART:20250330T010000
END:DAYLIGHT
BEGIN:STANDARD
TZOFFSETFROM:+0200
TZOFFSETTO:+0100
TZNAME:CET
DTSTART:20251026T010000
END:STANDARD
BEGIN:DAYLIGHT
TZOFFSETFROM:+0100
TZOFFSETTO:+0200
TZNAME:CEST
DTSTART:20260329T010000
END:DAYLIGHT
BEGIN:STANDARD
TZOFFSETFROM:+0200
TZOFFSETTO:+0100
TZNAME:CET
DTSTART:20261025T010000
END:STANDARD
END:VTIMEZONE
BEGIN:VEVENT
DTSTART;TZID=Europe/Brussels:20250412T160000
DTEND;TZID=Europe/Brussels:20250412T180000
DTSTAMP:20260426T003447
CREATED:20250308T105022Z
LAST-MODIFIED:20250308T112523Z
UID:4659-1744473600-1744480800@www.surlechemin.be
SUMMARY:Conférence Pr. Adalberto Barreto
DESCRIPTION:« Conférence rencontre avec le Pr. Adalberto Barreto\,\nLa Thérapie Communautaire Intégrative. »\n\n\n\n\n\nLe bonheur et la qualité de notre santé dépendent intimement de\nla qualité de nos liens et de nos relations sociales.\nReconnue internationalement et appliquée dans de nombreux pays\, notamment dans des régions touchées par la guerre et la violence\, la TCI-s nécessite l’accompagnement de « facilitateurs » formés à cette méthode.\n\n\n\nAdalberto Barreto\, psychiatre brésilien et condisciple de Boris Cyrulnik et Tobie Nathan\, a développé la Thérapie Communautaire Intégrative Systémique (TCI-s)\, un dispositif innovant de prise en charge collective de la souffrance. Face à la misère\, aux traumatismes et à la violence sociale dans les favelas du Nord du Brésil\, il a constaté que lorsque la souffrance est accueillie par un groupe bienveillant\, l’écoute et le partage permettent d’en atténuer les effets.\n\nLe Samedi\n12 avril 2025\n\n\nde 16h00 à 18h00\n\n\n\nLe prix de la conférence\nest fixé à 8\,00 €\n\n\nInformations complémentaires\n\n\n\nChaque mois\, bienvenue à la Ronde de parole qui se tient à « Sur Le Chemin » :\nles samedis 22/03\, 19/04\, 24/05\, 28/06 de : 17h00 (accueil dès 16h40) jusqu’à 18h30\n\n\n\n\nInscription : aeticis-be@gmail.com
URL:https://www.surlechemin.be/event/conference-pr-adalberto-barreto/
LOCATION:La Maison Saint Benoît\, rue Émile Vandervelde 11\, Virginal\, B-1460
ORGANIZER;CN="Sur le Chemin":MAILTO:stages@surlechemin.be
END:VEVENT
END:VCALENDAR