BEGIN:VCALENDAR
VERSION:2.0
PRODID:-//Sur le Chemin - ECPv6.15.20//NONSGML v1.0//EN
CALSCALE:GREGORIAN
METHOD:PUBLISH
X-ORIGINAL-URL:https://www.surlechemin.be
X-WR-CALDESC:Évènements pour Sur le Chemin
REFRESH-INTERVAL;VALUE=DURATION:PT1H
X-Robots-Tag:noindex
X-PUBLISHED-TTL:PT1H
BEGIN:VTIMEZONE
TZID:Europe/Brussels
BEGIN:DAYLIGHT
TZOFFSETFROM:+0100
TZOFFSETTO:+0200
TZNAME:CEST
DTSTART:20240331T010000
END:DAYLIGHT
BEGIN:STANDARD
TZOFFSETFROM:+0200
TZOFFSETTO:+0100
TZNAME:CET
DTSTART:20241027T010000
END:STANDARD
BEGIN:DAYLIGHT
TZOFFSETFROM:+0100
TZOFFSETTO:+0200
TZNAME:CEST
DTSTART:20250330T010000
END:DAYLIGHT
BEGIN:STANDARD
TZOFFSETFROM:+0200
TZOFFSETTO:+0100
TZNAME:CET
DTSTART:20251026T010000
END:STANDARD
BEGIN:DAYLIGHT
TZOFFSETFROM:+0100
TZOFFSETTO:+0200
TZNAME:CEST
DTSTART:20260329T010000
END:DAYLIGHT
BEGIN:STANDARD
TZOFFSETFROM:+0200
TZOFFSETTO:+0100
TZNAME:CET
DTSTART:20261025T010000
END:STANDARD
END:VTIMEZONE
BEGIN:VEVENT
DTSTART;TZID=Europe/Brussels:20250920T180000
DTEND;TZID=Europe/Brussels:20250920T210000
DTSTAMP:20260425T180720
CREATED:20250818T162134Z
LAST-MODIFIED:20250820T190848Z
UID:4956-1758391200-1758402000@www.surlechemin.be
SUMMARY:«40 Perles de sagesse» selon Shams de Tabriz
DESCRIPTION:… illustrées par Patricia Berquin \n\n\n\n\n\n\n\n\n\n\n\n\nInscription : Entrée Libre
URL:https://www.surlechemin.be/event/40-perles-de-sagesse-selon-shams-de-tabriz-5/
LOCATION:Sur le Chemin\, rue Émile Vandervelde 11\, Virginal\, B-1460\, Belgium
ORGANIZER;CN="Sur le Chemin":MAILTO:stages@surlechemin.be
END:VEVENT
END:VCALENDAR