BEGIN:VCALENDAR
VERSION:2.0
PRODID:-//Sur le Chemin - ECPv6.15.20//NONSGML v1.0//EN
CALSCALE:GREGORIAN
METHOD:PUBLISH
X-WR-CALNAME:Sur le Chemin
X-ORIGINAL-URL:https://www.surlechemin.be
X-WR-CALDESC:Évènements pour Sur le Chemin
REFRESH-INTERVAL;VALUE=DURATION:PT1H
X-Robots-Tag:noindex
X-PUBLISHED-TTL:PT1H
BEGIN:VTIMEZONE
TZID:Europe/Brussels
BEGIN:DAYLIGHT
TZOFFSETFROM:+0100
TZOFFSETTO:+0200
TZNAME:CEST
DTSTART:20250330T010000
END:DAYLIGHT
BEGIN:STANDARD
TZOFFSETFROM:+0200
TZOFFSETTO:+0100
TZNAME:CET
DTSTART:20251026T010000
END:STANDARD
BEGIN:DAYLIGHT
TZOFFSETFROM:+0100
TZOFFSETTO:+0200
TZNAME:CEST
DTSTART:20260329T010000
END:DAYLIGHT
BEGIN:STANDARD
TZOFFSETFROM:+0200
TZOFFSETTO:+0100
TZNAME:CET
DTSTART:20261025T010000
END:STANDARD
BEGIN:DAYLIGHT
TZOFFSETFROM:+0100
TZOFFSETTO:+0200
TZNAME:CEST
DTSTART:20270328T010000
END:DAYLIGHT
BEGIN:STANDARD
TZOFFSETFROM:+0200
TZOFFSETTO:+0100
TZNAME:CET
DTSTART:20271031T010000
END:STANDARD
END:VTIMEZONE
BEGIN:VEVENT
DTSTART;TZID=Europe/Brussels:20260209T103000
DTEND;TZID=Europe/Brussels:20260209T183000
DTSTAMP:20260423T164325
CREATED:20260204T182021Z
LAST-MODIFIED:20260209T185958Z
UID:5032-1770633000-1770661800@www.surlechemin.be
SUMMARY:Cercle Mamans / bébés
DESCRIPTION:Maman à cœur\n\n\n\n\n\n\nDevenir maman est une aventure merveilleuse… mais parfois aussi intense et bouleversante. On dit souvent qu’il faut un village pour élever un enfant\, un proverbe Africain qui résonne particulièrement dans la maternité. Et si ce cercle devenait une partie de votre village ? \n\n\n\n\n\nLundi\n\n\n09/02/2026\n\n\n\nVenez comme vous êtes\,\nrepartez le cœur plus léger.\n\n\nPlus d’Infos\n\n\n\n\n\n\n\n\nInscription : stages@surlechemin.be
URL:https://www.surlechemin.be/event/cercle-mamans-bebes/
LOCATION:Sur le Chemin\, rue Émile Vandervelde 11\, Virginal\, B-1460\, Belgium
ORGANIZER;CN="Ga%C3%ABlle de Wergifosse":MAILTO:gaelle.dewergifosse@gmail.com
END:VEVENT
END:VCALENDAR