BEGIN:VCALENDAR
VERSION:2.0
PRODID:-//Sur le Chemin - ECPv6.15.20//NONSGML v1.0//EN
CALSCALE:GREGORIAN
METHOD:PUBLISH
X-WR-CALNAME:Sur le Chemin
X-ORIGINAL-URL:https://www.surlechemin.be
X-WR-CALDESC:Évènements pour Sur le Chemin
REFRESH-INTERVAL;VALUE=DURATION:PT1H
X-Robots-Tag:noindex
X-PUBLISHED-TTL:PT1H
BEGIN:VTIMEZONE
TZID:Europe/Brussels
BEGIN:DAYLIGHT
TZOFFSETFROM:+0100
TZOFFSETTO:+0200
TZNAME:CEST
DTSTART:20250330T010000
END:DAYLIGHT
BEGIN:STANDARD
TZOFFSETFROM:+0200
TZOFFSETTO:+0100
TZNAME:CET
DTSTART:20251026T010000
END:STANDARD
BEGIN:DAYLIGHT
TZOFFSETFROM:+0100
TZOFFSETTO:+0200
TZNAME:CEST
DTSTART:20260329T010000
END:DAYLIGHT
BEGIN:STANDARD
TZOFFSETFROM:+0200
TZOFFSETTO:+0100
TZNAME:CET
DTSTART:20261025T010000
END:STANDARD
BEGIN:DAYLIGHT
TZOFFSETFROM:+0100
TZOFFSETTO:+0200
TZNAME:CEST
DTSTART:20270328T010000
END:DAYLIGHT
BEGIN:STANDARD
TZOFFSETFROM:+0200
TZOFFSETTO:+0100
TZNAME:CET
DTSTART:20271031T010000
END:STANDARD
END:VTIMEZONE
BEGIN:VEVENT
DTSTART;TZID=Europe/Brussels:20260308T103000
DTEND;TZID=Europe/Brussels:20260308T123000
DTSTAMP:20260423T152150
CREATED:20250923T153747Z
LAST-MODIFIED:20250923T153747Z
UID:5020-1772965800-1772973000@www.surlechemin.be
SUMMARY:Ronde de parole
DESCRIPTION:« Espace de Thérapie Communautaire Intégrative »\n\n\n\n\n\n\n\n\nSuivi d’un brunch sous forme d’auberge espagnole\n\n\n\nInscription : Entrée Libre
URL:https://www.surlechemin.be/event/ronde-de-parole-4/
LOCATION:Sur le Chemin\, rue Émile Vandervelde 11\, Virginal\, B-1460\, Belgium
ORGANIZER;CN="Aetcis":MAILTO:rondes.tcis.stbenoit@gmail.com
END:VEVENT
BEGIN:VEVENT
DTSTART;TZID=Europe/Brussels:20260308T183000
DTEND;TZID=Europe/Brussels:20260308T213000
DTSTAMP:20260423T152150
CREATED:20260204T193117Z
LAST-MODIFIED:20260209T190041Z
UID:5034-1772994600-1773005400@www.surlechemin.be
SUMMARY:Cercle de Femmes
DESCRIPTION:« Clôturer l’hiver avec la Femme Sage »\n\n\n\n\n\n\n\nUn cercle pour honorer la fin de l’hiver\, célébrer le chemin parcouru et se relier à l’archétype de la Femme Sage\, gardienne de la lumière\, de la sagesse et de la confiance.\nUn espace de sororité pour accueillir la renaissance\, la clarté et la force intérieure\nnées de nos expériences.\n\n\n\n\n\n\n\n\n\n\n\n\n\n\n\n\nDimanche\n08/03/2026\nde 18h30 à 21h30\n\n\n\n\n\n\n\n\n\n\n\n\n\nAnimé par Gaëlle\n\n\n\n\nInformations : 0473 / 64 25 04 \n(Places limitées – réservation conseillée)
URL:https://www.surlechemin.be/event/cercle-mamans-bebes-2/
LOCATION:Sur le Chemin\, rue Émile Vandervelde 11\, Virginal\, B-1460\, Belgium
ORGANIZER;CN="Ga%C3%ABlle de Wergifosse":MAILTO:gaelle.dewergifosse@gmail.com
END:VEVENT
END:VCALENDAR