BEGIN:VCALENDAR
VERSION:2.0
PRODID:-//Sur le Chemin - ECPv6.15.20//NONSGML v1.0//EN
CALSCALE:GREGORIAN
METHOD:PUBLISH
X-WR-CALNAME:Sur le Chemin
X-ORIGINAL-URL:https://www.surlechemin.be
X-WR-CALDESC:Évènements pour Sur le Chemin
REFRESH-INTERVAL;VALUE=DURATION:PT1H
X-Robots-Tag:noindex
X-PUBLISHED-TTL:PT1H
BEGIN:VTIMEZONE
TZID:Europe/Brussels
BEGIN:DAYLIGHT
TZOFFSETFROM:+0100
TZOFFSETTO:+0200
TZNAME:CEST
DTSTART:20240331T010000
END:DAYLIGHT
BEGIN:STANDARD
TZOFFSETFROM:+0200
TZOFFSETTO:+0100
TZNAME:CET
DTSTART:20241027T010000
END:STANDARD
BEGIN:DAYLIGHT
TZOFFSETFROM:+0100
TZOFFSETTO:+0200
TZNAME:CEST
DTSTART:20250330T010000
END:DAYLIGHT
BEGIN:STANDARD
TZOFFSETFROM:+0200
TZOFFSETTO:+0100
TZNAME:CET
DTSTART:20251026T010000
END:STANDARD
BEGIN:DAYLIGHT
TZOFFSETFROM:+0100
TZOFFSETTO:+0200
TZNAME:CEST
DTSTART:20260329T010000
END:DAYLIGHT
BEGIN:STANDARD
TZOFFSETFROM:+0200
TZOFFSETTO:+0100
TZNAME:CET
DTSTART:20261025T010000
END:STANDARD
END:VTIMEZONE
BEGIN:VEVENT
DTSTART;TZID=Europe/Brussels:20250523T100000
DTEND;TZID=Europe/Brussels:20250525T173000
DTSTAMP:20260425T220101
CREATED:20250204T181605Z
LAST-MODIFIED:20250204T181848Z
UID:4266-1747994400-1748194200@www.surlechemin.be
SUMMARY:Le Shiatsu du mouvement au service de la mémoire corporelle
DESCRIPTION:« Bill Palmer et Teresa Hadland »\n\n\n\n\n\nTravailler les traumatismes et les maladies chroniquesau travers des fascias et des viscères.\n\n\n\n\n \n\n\ndu vendrediau dimanche\n\n\n23/05/202525/05/2025\n\n\n\nEarly bird430\,00 eurossi paiement avant 15 mars 2025\n\n\nPlus d’Infos\n\n\n\nAu cours de la formation\, nous aborderons les points suivants :\n\n\nComment valoriser les schémas protecteurs puis les amener à la conscience afin qu’ils puissent changer lorsque cela est possible.\nComment travailler avec les fascias pour aider en douceur et en toute sécurité la zone cachée à se reconnecter.\nComment amener les organes internes de cette zone à la conscience\, les aider à initier le mouvement et à s’exprimer « à la première personne ».\nComment aider un patient à traiter un traumatisme par le mouvement sans se laisser entraîner par son histoire ancienne.\nComment utiliser les six formes de toucher qui favorise la réintégration du corps et de l’esprit.\nApprendre le Qigong qui renforce l’énergie et crée un espace sûr pour traiter le traumatisme.\n\n\n\n\n\n\nInscription : stages@surlechemin.be
URL:https://www.surlechemin.be/event/le-shiatsu-du-mouvement/
LOCATION:Sur le Chemin\, rue Émile Vandervelde 11\, Virginal\, B-1460\, Belgium
END:VEVENT
BEGIN:VEVENT
DTSTART;TZID=Europe/Brussels:20250524T100000
DTEND;TZID=Europe/Brussels:20250524T143000
DTSTAMP:20260425T220101
CREATED:20250325T180751Z
LAST-MODIFIED:20250325T180925Z
UID:4742-1748080800-1748097000@www.surlechemin.be
SUMMARY:Ateliers de Cuisine
DESCRIPTION:« Apprenez à cuisiner autrement ! »\n\n\n\n\n\n\n\n\n\nVenez partager des moments gourmands et chaleureux avec notre chef Laurent.\nRedécouvrez les recettes traditionnelles en les revisitant avec des ingrédients sains\, locaux et de saisons.\n\nSamedi\n\n\n24/05/2025\n\n\n\nDe 10h00 à 14h30\n\n\n\n\n\n\n\n\n\n\n\nInformations & Réservations : 0485 / 63 95 93 – taquinlo@yahoo.fr
URL:https://www.surlechemin.be/event/ateliers-de-cuisine-2/
LOCATION:Sur le Chemin\, rue Émile Vandervelde 11\, Virginal\, B-1460\, Belgium
ORGANIZER;CN="Laurent Taquin":MAILTO:taquinlo@yahoo.fr
END:VEVENT
BEGIN:VEVENT
DTSTART;TZID=Europe/Brussels:20250524T170000
DTEND;TZID=Europe/Brussels:20250524T183000
DTSTAMP:20260425T220101
CREATED:20250219T200708Z
LAST-MODIFIED:20250219T201328Z
UID:4547-1748106000-1748111400@www.surlechemin.be
SUMMARY:Rondes de parole
DESCRIPTION:« Espace de Thérapie Communautaire Intégrative »\n\n\n\n\n\nIl s’agit d’un espace de rencontres et de paroles\, ouvert à toutes et tous. On y partage les soucis du quotidien et des pistes de solutions par la mise en commun des ressources et des expériences mutuelles.\n\n\n\n\n\nSamedi\n\n\n24/05/2025\n\n\n\nAccueil dès 16h40 \nPAF « au chapeau »\,\nlibre et en conscience (pour l’organisation).\n\n\nPlus d’Infos\n\n\n\n\n\n\n\n\nInscription : rondes.tcis.stbenoit@gmail.com
URL:https://www.surlechemin.be/event/rondes-de-parole-3/
LOCATION:Sur le Chemin\, rue Émile Vandervelde 11\, Virginal\, B-1460\, Belgium
END:VEVENT
END:VCALENDAR