BEGIN:VCALENDAR
VERSION:2.0
PRODID:-//Sur le Chemin - ECPv6.15.20//NONSGML v1.0//EN
CALSCALE:GREGORIAN
METHOD:PUBLISH
X-WR-CALNAME:Sur le Chemin
X-ORIGINAL-URL:https://www.surlechemin.be
X-WR-CALDESC:Évènements pour Sur le Chemin
REFRESH-INTERVAL;VALUE=DURATION:PT1H
X-Robots-Tag:noindex
X-PUBLISHED-TTL:PT1H
BEGIN:VTIMEZONE
TZID:Europe/Brussels
BEGIN:DAYLIGHT
TZOFFSETFROM:+0100
TZOFFSETTO:+0200
TZNAME:CEST
DTSTART:20240331T010000
END:DAYLIGHT
BEGIN:STANDARD
TZOFFSETFROM:+0200
TZOFFSETTO:+0100
TZNAME:CET
DTSTART:20241027T010000
END:STANDARD
BEGIN:DAYLIGHT
TZOFFSETFROM:+0100
TZOFFSETTO:+0200
TZNAME:CEST
DTSTART:20250330T010000
END:DAYLIGHT
BEGIN:STANDARD
TZOFFSETFROM:+0200
TZOFFSETTO:+0100
TZNAME:CET
DTSTART:20251026T010000
END:STANDARD
BEGIN:DAYLIGHT
TZOFFSETFROM:+0100
TZOFFSETTO:+0200
TZNAME:CEST
DTSTART:20260329T010000
END:DAYLIGHT
BEGIN:STANDARD
TZOFFSETFROM:+0200
TZOFFSETTO:+0100
TZNAME:CET
DTSTART:20261025T010000
END:STANDARD
END:VTIMEZONE
BEGIN:VEVENT
DTSTART;TZID=Europe/Brussels:20250612T180000
DTEND;TZID=Europe/Brussels:20250612T213000
DTSTAMP:20260425T204436
CREATED:20250527T193135Z
LAST-MODIFIED:20250527T193135Z
UID:4853-1749751200-1749763800@www.surlechemin.be
SUMMARY:La gemmothérapie
DESCRIPTION:Chers tous et toutes\,\n\n\n\n\n\n\nNous avons en effet la grande joie de vous inviter\, le 12 juin prochain\, pour une soirée dédiée à la gemmothérapie. La société AlphaGem est pionnière dans le développement d’une gamme de synergies de bourgeons dédiée à la Médecine Traditionnelle Chinoise. Il nous a paru intéressant de partager cette information : comment l’utilisation de la gemmothérapie permet-elle de soutenir et renforcer nos soins thérapeutiques\, en shiatsu\, en MTC\, en énergétique\, … \n\n\n\n\n\nJeudi\n\n\n12/06/2025\n\n\n\n\nde 18h00 à 21h30 en fonction de votre choix \nAu programme : \n\nPrésentation de la gemmothérapie et de son mode de fonctionnement ;\nPrésentation d’un unitaire de première importance : le bourgeon de cassis\, avec ses applications ;\nLiens entre gemmothérapie et Médecine Traditionnelle Chinoise ;\nPrésentation de la gamme ACUGEM : les 5 éléments et les 12 méridiens\, indications et composition.\n\n\n\n\nPlus d’Infos\n\n\n\n\n\n\n\n\nInscription : stages@surlechemin.be
URL:https://www.surlechemin.be/event/la-gemmotherapie/
LOCATION:Sur le Chemin\, rue Émile Vandervelde 11\, Virginal\, B-1460\, Belgium
ORGANIZER;CN="Sur le Chemin":MAILTO:stages@surlechemin.be
END:VEVENT
BEGIN:VEVENT
DTSTART;TZID=Europe/Brussels:20250616T100000
DTEND;TZID=Europe/Brussels:20250616T120000
DTSTAMP:20260425T204436
CREATED:20250529T113407Z
LAST-MODIFIED:20250601T143359Z
UID:4868-1750068000-1750075200@www.surlechemin.be
SUMMARY:Cercle Maman - BÉBÉ
DESCRIPTION:Maman à cœur\n\n\n\n\n\n\nDevenir maman est une aventure merveilleuse… mais parfois aussi intense et bouleversante. On dit souvent qu’il faut un village pour élever un enfant\, un proverbe Africain qui résonne particulièrement dans la maternité. Et si ce cercle devenait une partie de votre village ? \n\n\n\n\n\nDimanche\n\n\n16/06/2025\n\n\n\nVenez comme vous êtes\,\nrepartez le cœur plus léger.\n\n\nPlus d’Infos\n\n\n\n\n\n\n\n\nInscription : stages@surlechemin.be
URL:https://www.surlechemin.be/event/cercle-maman-bebe/
LOCATION:Sur le Chemin\, rue Émile Vandervelde 11\, Virginal\, B-1460\, Belgium
ORGANIZER;CN="Ga%C3%ABlle de Wergifosse":MAILTO:gaelle.dewergifosse@gmail.com
END:VEVENT
BEGIN:VEVENT
DTSTART;TZID=Europe/Brussels:20250628T100000
DTEND;TZID=Europe/Brussels:20250628T143000
DTSTAMP:20260425T204436
CREATED:20250325T181128Z
LAST-MODIFIED:20250325T181128Z
UID:4746-1751104800-1751121000@www.surlechemin.be
SUMMARY:Ateliers de Cuisine
DESCRIPTION:« Apprenez à cuisiner autrement ! »\n\n\n\n\n\n\n\n\n\nVenez partager des moments gourmands et chaleureux avec notre chef Laurent.\nRedécouvrez les recettes traditionnelles en les revisitant avec des ingrédients sains\, locaux et de saisons.\n\nSamedi\n\n\n28/06/2025\n\n\n\nDe 10h00 à 14h30\n\n\n\n\n\n\n\n\n\n\n\nInformations & Réservations : 0485 / 63 95 93 – taquinlo@yahoo.fr
URL:https://www.surlechemin.be/event/ateliers-de-cuisine-3/
LOCATION:Sur le Chemin\, rue Émile Vandervelde 11\, Virginal\, B-1460\, Belgium
ORGANIZER;CN="Laurent Taquin":MAILTO:taquinlo@yahoo.fr
END:VEVENT
BEGIN:VEVENT
DTSTART;TZID=Europe/Brussels:20250628T170000
DTEND;TZID=Europe/Brussels:20250628T183000
DTSTAMP:20260425T204436
CREATED:20250219T200950Z
LAST-MODIFIED:20250219T201254Z
UID:4549-1751130000-1751135400@www.surlechemin.be
SUMMARY:Rondes de parole
DESCRIPTION:« Espace de Thérapie Communautaire Intégrative »\n\n\n\n\n\nIl s’agit d’un espace de rencontres et de paroles\, ouvert à toutes et tous. On y partage les soucis du quotidien et des pistes de solutions par la mise en commun des ressources et des expériences mutuelles.\n\n\n\n\n\nSamedi\n\n\n28/06/2025\n\n\n\nAccueil dès 16h40 \nPAF « au chapeau »\,\nlibre et en conscience (pour l’organisation).\n\n\nPlus d’Infos\n\n\n\n\n\n\n\n\nInscription : rondes.tcis.stbenoit@gmail.com
URL:https://www.surlechemin.be/event/rondes-de-parole-4/
LOCATION:Sur le Chemin\, rue Émile Vandervelde 11\, Virginal\, B-1460\, Belgium
END:VEVENT
BEGIN:VEVENT
DTSTART;TZID=Europe/Brussels:20250629T180000
DTEND;TZID=Europe/Brussels:20250629T220000
DTSTAMP:20260425T204436
CREATED:20250414T205137Z
LAST-MODIFIED:20250529T162643Z
UID:4790-1751220000-1751234400@www.surlechemin.be
SUMMARY:Cercle de Femmes
DESCRIPTION:« À la découverte de la Petite Fille Intérieure »\n\n\n\n\n\n\n\n\n\n\n\nDimanche\n\n\n29/06/2025\n\n\n\nDe 18h00 à 22h00  \n\n\n\n\n\n\n\nQuoi de plus naturel que de célébrer notre magnifique saison du printemps en poursuivant notre exploration des archétypes féminins de la Roue Médecine avec la Petite Fille\, cette part de nous qui rêve\,\ns’émerveille et ose … \nAu programme : \n\nRituel de reconnexion à son enfant intérieur\nAtelier créatif et intuitif\nPartages en cercle de femmes\n\n\n\n\n\n\nAnimé par Claire & Gaëlle\n\n\n\n\nInformations : 0473 / 64 25 04 \n(Places limitées – réservation conseillée)
URL:https://www.surlechemin.be/event/cercle-de-femmes/
LOCATION:Sur le Chemin\, rue Émile Vandervelde 11\, Virginal\, B-1460\, Belgium
ORGANIZER;CN="Ga%C3%ABlle de Wergifosse":MAILTO:gaelle.dewergifosse@gmail.com
END:VEVENT
BEGIN:VEVENT
DTSTART;TZID=Europe/Brussels:20250630T100000
DTEND;TZID=Europe/Brussels:20250630T120000
DTSTAMP:20260425T204436
CREATED:20250529T113808Z
LAST-MODIFIED:20250601T141435Z
UID:4901-1751277600-1751284800@www.surlechemin.be
SUMMARY:Cercle Maman – BÉBÉ
DESCRIPTION:Maman à cœur\n\n\n\n\n\n\nDevenir maman est une aventure merveilleuse… mais parfois aussi intense et bouleversante. On dit souvent qu’il faut un village pour élever un enfant\, un proverbe Africain qui résonne particulièrement dans la maternité. Et si ce cercle devenait une partie de votre village ? \n\n\n\n\n\nDimanche\n\n\n30/06/2025\n\n\n\nVenez comme vous êtes\,\nrepartez le cœur plus léger.\n\n\nPlus d’Infos\n\n\n\n\n\n\n\n\nInscription : stages@surlechemin.be
URL:https://www.surlechemin.be/event/cercle-maman-bebe-2/
LOCATION:Sur le Chemin\, rue Émile Vandervelde 11\, Virginal\, B-1460\, Belgium
ORGANIZER;CN="Ga%C3%ABlle de Wergifosse":MAILTO:gaelle.dewergifosse@gmail.com
END:VEVENT
END:VCALENDAR